BEGIN:VCALENDAR
PRODID:-//eluceo/ical//2.0/EN
VERSION:2.0
CALSCALE:GREGORIAN
BEGIN:VEVENT
UID:c6ca67000aee0b1a465f766c9a070320
DTSTAMP:20260424T113241Z
SUMMARY:Heimsókn umdæmisstjóra
DESCRIPTION:
URL:https://rvkgrafarvogur.rotary1360.is/is/agenda/show/2148
DTSTART;TZID=Iceland:20200902T181500
DTEND;TZID=Iceland:20200902T193000
LOCATION:Borgir félagsmiðstöð\nSpöngin 43\n112 Reykjavík\n
CATEGORIES:Rotary
END:VEVENT
BEGIN:VTIMEZONE
TZID:Iceland
BEGIN:STANDARD
DTSTART:20200902T181500
TZNAME:GMT
TZOFFSETTO:+0000
TZOFFSETFROM:+0000
END:STANDARD
END:VTIMEZONE
END:VCALENDAR
