BEGIN:VCALENDAR
PRODID:-//eluceo/ical//2.0/EN
VERSION:2.0
CALSCALE:GREGORIAN
BEGIN:VEVENT
UID:957c9439b0f65cd63e3052f6edaa017d
DTSTAMP:20260421T101554Z
SUMMARY:Rótarýfundur 17.01.2024
DESCRIPTION:Fyrirlesari(ar): Gísli Sigurgeirsson kennari Raftækniskólanu
 m
URL:https://rvkgrafarvogur.rotary1360.is/is/agenda/show/5263
DTSTART;TZID=Iceland:20240117T181500
DTEND;TZID=Iceland:20240117T193000
LOCATION:Borgir félagsmiðstöð\, Spöngin 43\, 112 Reykjavík\, Ísland
CATEGORIES:Rotary
END:VEVENT
BEGIN:VTIMEZONE
TZID:Iceland
BEGIN:STANDARD
DTSTART:20240117T181500
TZNAME:GMT
TZOFFSETTO:+0000
TZOFFSETFROM:+0000
END:STANDARD
END:VTIMEZONE
END:VCALENDAR
