BEGIN:VCALENDAR
PRODID:-//eluceo/ical//2.0/EN
VERSION:2.0
CALSCALE:GREGORIAN
BEGIN:VEVENT
UID:676ba63add96c81efc7b68ebda6ca60f
DTSTAMP:20260421T101513Z
SUMMARY:Glampar\, minningarbrot frá Odda á Rangárvöllum
DESCRIPTION:Fyrirlesari(ar):                   Kristín Arngrímsd
 óttir    
URL:https://rvkgrafarvogur.rotary1360.is/is/agenda/show/5351
DTSTART;TZID=Iceland:20240214T181500
DTEND;TZID=Iceland:20240214T193000
LOCATION:Borgir félagsmiðstöð\, Spöngin 43\, 112 Reykjavík\, Ísland
CATEGORIES:Rotary
END:VEVENT
BEGIN:VTIMEZONE
TZID:Iceland
BEGIN:STANDARD
DTSTART:20240214T181500
TZNAME:GMT
TZOFFSETTO:+0000
TZOFFSETFROM:+0000
END:STANDARD
END:VTIMEZONE
END:VCALENDAR
